BEGIN:VCALENDAR
VERSION:2.0
PRODID:icalendar-ruby
CALSCALE:GREGORIAN
BEGIN:VEVENT
DTSTAMP:20260420T021304Z
UID:be3d7a93-7a58-499b-afed-1fb0582721b6
DTSTART;TZID=Pacific/Auckland:20260418T110000
DTEND;TZID=Pacific/Auckland:20260418T113000
DESCRIPTION:Property ID# 605868
SUMMARY:Openhome for 1/165 Clarence Street
END:VEVENT
END:VCALENDAR
