BEGIN:VCALENDAR
VERSION:2.0
PRODID:icalendar-ruby
CALSCALE:GREGORIAN
BEGIN:VEVENT
DTSTAMP:20260421T190445Z
UID:7e7f9e88-2719-47fa-8b86-a2c56e1127b8
DTSTART;VALUE=DATE:20260506
DESCRIPTION:Property ID# 606235\, Locatoin: Holmwood Auction Rooms\, 397-39
 9 Ilam Road\, Ilam \, Time: 10:00AM
SUMMARY:Auction for 6 Walsall Street
END:VEVENT
END:VCALENDAR
