BEGIN:VCALENDAR
VERSION:2.0
PRODID:icalendar-ruby
CALSCALE:GREGORIAN
BEGIN:VEVENT
DTSTAMP:20260421T191138Z
UID:a758f91b-2497-45d6-ba0e-9fa0e1e6744f
DTSTART;VALUE=DATE:20260506
DESCRIPTION:Property ID# 606234\, Locatoin: Holmwood Auction Rooms\, 397-39
 9 Ilam Road\, Ilam\, Time: 10:00AM
SUMMARY:Auction for 8 Walsall Street
END:VEVENT
END:VCALENDAR
