BEGIN:VCALENDAR
VERSION:2.0
PRODID:icalendar-ruby
CALSCALE:GREGORIAN
BEGIN:VEVENT
DTSTAMP:20260423T100447Z
UID:272928f1-f9f7-4144-a1e8-49f04842466d
DTSTART;VALUE=DATE:20260304
DESCRIPTION:Property ID# 603310\, Locatoin: 397 Ilam Road\, Ilam\, Time: 10
 :00AM
SUMMARY:Auction for 
END:VEVENT
END:VCALENDAR
