BEGIN:VCALENDAR
VERSION:2.0
PRODID:icalendar-ruby
CALSCALE:GREGORIAN
BEGIN:VEVENT
DTSTAMP:20260421T192204Z
UID:c808d16b-167e-4649-8309-50c96867cfdc
DTSTART;VALUE=DATE:20251127
DESCRIPTION:Property ID# 599960\, Locatoin: Holmwood Auction Rooms\, 397 Il
 am Road\, Ilam\, Time: 1:00PM
SUMMARY:Auction for 
END:VEVENT
END:VCALENDAR
