BEGIN:VCALENDAR
VERSION:2.0
PRODID:icalendar-ruby
CALSCALE:GREGORIAN
BEGIN:VEVENT
DTSTAMP:20260421T191307Z
UID:d76769d8-606a-4e5e-a7ea-95cf7fe73829
DTSTART;VALUE=DATE:20251119
DESCRIPTION:Property ID# 599453\, Locatoin: Holmwood Auction Rooms\, 397-39
 9 Ilam Road\, Ilam\, Time: 10:00AM
SUMMARY:Auction for 
END:VEVENT
END:VCALENDAR
