BEGIN:VCALENDAR
VERSION:2.0
PRODID:icalendar-ruby
CALSCALE:GREGORIAN
BEGIN:VEVENT
DTSTAMP:20260421T190553Z
UID:bd3706d7-98fe-4f54-82e6-61132b99b5e0
DTSTART;VALUE=DATE:20251112
DESCRIPTION:Property ID# 599128\, Locatoin: Holmwood Auction Rooms\, 397 Il
 am Road\, Ilam  (Unless Sold Prior)\, Time: 10:00AM
SUMMARY:Auction for 
END:VEVENT
END:VCALENDAR
