BEGIN:VCALENDAR
VERSION:2.0
PRODID:icalendar-ruby
CALSCALE:GREGORIAN
BEGIN:VEVENT
DTSTAMP:20260421T190506Z
UID:454769a7-7051-40f5-81f5-55f7553cd6a2
DTSTART;VALUE=DATE:20251105
DESCRIPTION:Property ID# 598663\, Locatoin: Holmwood Auction Rooms: 397 Ila
 m Road\, Time: 10:00AM
SUMMARY:Auction for 
END:VEVENT
END:VCALENDAR
