BEGIN:VCALENDAR
VERSION:2.0
PRODID:icalendar-ruby
CALSCALE:GREGORIAN
BEGIN:VEVENT
DTSTAMP:20260421T191430Z
UID:869cdf60-4c17-4ccd-b5a8-b9a1a053c9c8
DTSTART;VALUE=DATE:20251023
DESCRIPTION:Property ID# 598040\, Time: 5:00PM
SUMMARY:Auction for 
END:VEVENT
END:VCALENDAR
