BEGIN:VCALENDAR
VERSION:2.0
PRODID:icalendar-ruby
CALSCALE:GREGORIAN
BEGIN:VEVENT
DTSTAMP:20260421T192803Z
UID:d1709342-0c02-4b94-9fb1-e24263d90497
DTSTART;VALUE=DATE:20250924
DESCRIPTION:Property ID# 596940\, Locatoin: 399 Ilam Road (unless sold prio
 r)\, Time: 12:00PM
SUMMARY:Auction for 
END:VEVENT
END:VCALENDAR
