BEGIN:VCALENDAR
VERSION:2.0
PRODID:icalendar-ruby
CALSCALE:GREGORIAN
BEGIN:VEVENT
DTSTAMP:20260421T191419Z
UID:6763b99a-1fc6-424f-9825-01012cb13a03
DTSTART;VALUE=DATE:20250918
DESCRIPTION:Property ID# 596773\, Locatoin: Holmwood Auction Rooms\, 397 Il
 am Road\, Ilam\, Time: 4:30PM
SUMMARY:Auction for 
END:VEVENT
END:VCALENDAR
