BEGIN:VCALENDAR
VERSION:2.0
PRODID:icalendar-ruby
CALSCALE:GREGORIAN
BEGIN:VEVENT
DTSTAMP:20260421T191116Z
UID:1fe9ab59-9854-4da8-a43d-e1d2e53b01aa
DTSTART;VALUE=DATE:20250917
DESCRIPTION:Property ID# 596189\, Locatoin: 51 Holmwood Road\, Fendalton\, 
 Christchurch\, Time: 5:00PM
SUMMARY:Auction for 
END:VEVENT
END:VCALENDAR
