BEGIN:VCALENDAR
VERSION:2.0
PRODID:icalendar-ruby
CALSCALE:GREGORIAN
BEGIN:VEVENT
DTSTAMP:20260421T191116Z
UID:2b870176-62df-4b54-9717-7794f5dc8279
DTSTART;VALUE=DATE:20251002
DESCRIPTION:Property ID# 595771\, Locatoin: Harcourts Fendalton\, 51 Holmwo
 od Road\, Fendalton\, Time: 4:00PM
SUMMARY:Auction for 
END:VEVENT
END:VCALENDAR
