BEGIN:VCALENDAR
VERSION:2.0
PRODID:icalendar-ruby
CALSCALE:GREGORIAN
BEGIN:VEVENT
DTSTAMP:20210121T020146Z
UID:e77b64ca-c840-438a-b126-719b1f505b13
DTSTART;VALUE=DATE:20200318
DESCRIPTION:Property ID# 473882\, Time: 4:00PM
SUMMARY:Auction for 
END:VEVENT
END:VCALENDAR
