BEGIN:VCALENDAR
VERSION:2.0
PRODID:icalendar-ruby
CALSCALE:GREGORIAN
BEGIN:VEVENT
DTSTAMP:20210121T020442Z
UID:50a06c5c-626e-4072-af0e-f4cbaf95c957
DTSTART;VALUE=DATE:20191113
DESCRIPTION:Property ID# 465334\, Locatoin: All offers on or before 4pm\, W
 ednesday 13th November 2019 (unless sold prior).\, Time: 12:00PM
SUMMARY:Auction for 
END:VEVENT
END:VCALENDAR
