BEGIN:VCALENDAR
VERSION:2.0
PRODID:icalendar-ruby
CALSCALE:GREGORIAN
BEGIN:VEVENT
DTSTAMP:20210121T020443Z
UID:8b74f9af-a5a2-41e2-941d-7d5ecc95fd6d
DTSTART;VALUE=DATE:20191016
DESCRIPTION:Property ID# 461973\, Time: 4:00PM
SUMMARY:Auction for 
END:VEVENT
END:VCALENDAR
